BEGIN:VCALENDAR
VERSION:2.0
PRODID:-//Pam Rose - ECPv6.15.20//NONSGML v1.0//EN
CALSCALE:GREGORIAN
METHOD:PUBLISH
X-ORIGINAL-URL:https://pamrosemusic.com
X-WR-CALDESC:Events for Pam Rose
REFRESH-INTERVAL;VALUE=DURATION:PT1H
X-Robots-Tag:noindex
X-PUBLISHED-TTL:PT1H
BEGIN:VTIMEZONE
TZID:America/Chicago
BEGIN:DAYLIGHT
TZOFFSETFROM:-0600
TZOFFSETTO:-0500
TZNAME:CDT
DTSTART:20150308T080000
END:DAYLIGHT
BEGIN:STANDARD
TZOFFSETFROM:-0500
TZOFFSETTO:-0600
TZNAME:CST
DTSTART:20151101T070000
END:STANDARD
BEGIN:DAYLIGHT
TZOFFSETFROM:-0600
TZOFFSETTO:-0500
TZNAME:CDT
DTSTART:20160313T080000
END:DAYLIGHT
BEGIN:STANDARD
TZOFFSETFROM:-0500
TZOFFSETTO:-0600
TZNAME:CST
DTSTART:20161106T070000
END:STANDARD
BEGIN:DAYLIGHT
TZOFFSETFROM:-0600
TZOFFSETTO:-0500
TZNAME:CDT
DTSTART:20170312T080000
END:DAYLIGHT
BEGIN:STANDARD
TZOFFSETFROM:-0500
TZOFFSETTO:-0600
TZNAME:CST
DTSTART:20171105T070000
END:STANDARD
BEGIN:DAYLIGHT
TZOFFSETFROM:-0600
TZOFFSETTO:-0500
TZNAME:CDT
DTSTART:20180311T080000
END:DAYLIGHT
BEGIN:STANDARD
TZOFFSETFROM:-0500
TZOFFSETTO:-0600
TZNAME:CST
DTSTART:20181104T070000
END:STANDARD
BEGIN:DAYLIGHT
TZOFFSETFROM:-0600
TZOFFSETTO:-0500
TZNAME:CDT
DTSTART:20190310T080000
END:DAYLIGHT
BEGIN:STANDARD
TZOFFSETFROM:-0500
TZOFFSETTO:-0600
TZNAME:CST
DTSTART:20191103T070000
END:STANDARD
BEGIN:DAYLIGHT
TZOFFSETFROM:-0600
TZOFFSETTO:-0500
TZNAME:CDT
DTSTART:20200308T080000
END:DAYLIGHT
BEGIN:STANDARD
TZOFFSETFROM:-0500
TZOFFSETTO:-0600
TZNAME:CST
DTSTART:20201101T070000
END:STANDARD
BEGIN:DAYLIGHT
TZOFFSETFROM:-0600
TZOFFSETTO:-0500
TZNAME:CDT
DTSTART:20210314T080000
END:DAYLIGHT
BEGIN:STANDARD
TZOFFSETFROM:-0500
TZOFFSETTO:-0600
TZNAME:CST
DTSTART:20211107T070000
END:STANDARD
BEGIN:DAYLIGHT
TZOFFSETFROM:-0600
TZOFFSETTO:-0500
TZNAME:CDT
DTSTART:20220313T080000
END:DAYLIGHT
BEGIN:STANDARD
TZOFFSETFROM:-0500
TZOFFSETTO:-0600
TZNAME:CST
DTSTART:20221106T070000
END:STANDARD
BEGIN:DAYLIGHT
TZOFFSETFROM:-0600
TZOFFSETTO:-0500
TZNAME:CDT
DTSTART:20230312T080000
END:DAYLIGHT
BEGIN:STANDARD
TZOFFSETFROM:-0500
TZOFFSETTO:-0600
TZNAME:CST
DTSTART:20231105T070000
END:STANDARD
BEGIN:DAYLIGHT
TZOFFSETFROM:-0600
TZOFFSETTO:-0500
TZNAME:CDT
DTSTART:20240310T080000
END:DAYLIGHT
BEGIN:STANDARD
TZOFFSETFROM:-0500
TZOFFSETTO:-0600
TZNAME:CST
DTSTART:20241103T070000
END:STANDARD
END:VTIMEZONE
BEGIN:VTIMEZONE
TZID:America/Chicago
BEGIN:DAYLIGHT
TZOFFSETFROM:-0600
TZOFFSETTO:-0500
TZNAME:CDT
DTSTART:20220313T080000
END:DAYLIGHT
BEGIN:STANDARD
TZOFFSETFROM:-0500
TZOFFSETTO:-0600
TZNAME:CST
DTSTART:20221106T070000
END:STANDARD
BEGIN:DAYLIGHT
TZOFFSETFROM:-0600
TZOFFSETTO:-0500
TZNAME:CDT
DTSTART:20230312T080000
END:DAYLIGHT
BEGIN:STANDARD
TZOFFSETFROM:-0500
TZOFFSETTO:-0600
TZNAME:CST
DTSTART:20231105T070000
END:STANDARD
BEGIN:DAYLIGHT
TZOFFSETFROM:-0600
TZOFFSETTO:-0500
TZNAME:CDT
DTSTART:20240310T080000
END:DAYLIGHT
BEGIN:STANDARD
TZOFFSETFROM:-0500
TZOFFSETTO:-0600
TZNAME:CST
DTSTART:20241103T070000
END:STANDARD
END:VTIMEZONE
BEGIN:VTIMEZONE
TZID:UTC
BEGIN:STANDARD
TZOFFSETFROM:+0000
TZOFFSETTO:+0000
TZNAME:UTC
DTSTART:20150101T000000
END:STANDARD
END:VTIMEZONE
BEGIN:VEVENT
DTSTART;VALUE=DATE:20231005
DTEND;VALUE=DATE:20231009
DTSTAMP:20260419T212849
CREATED:20230817T230803Z
LAST-MODIFIED:20230817T231522Z
UID:2285-1696464000-1696809599@pamrosemusic.com
SUMMARY:THE CREATIVE PROCESS DESERT RETREAT
DESCRIPTION:THE CREATIVE PROCESS DESERT RETREAT\nOctober 5 – 8\, 2023\n\n\nReunite with your creative spirit.\nFeeling lost and disconnected?\nHave anxiety and doubt become more tangible\nthan connectedness and euphoria?\nCome to Joshua Tree\, CA. Get back to creative expression\nwith the stars as your backdrop. \nSinger-Songwriter Pam Rose\nPam shares her songwriting process by day\,\nand at night\, highlights your place among the planets and stars. \nFriend Lauren Lovett\ngives Somatic workshops to help you\ntune in to your body’s vibrational language. \n\n\nLearn More\n\n\n\n(photo by Cedric Letsch\, unsplash.com)
URL:https://pamrosemusic.com/event/the-creative-process-desert-retreat/
LOCATION:The Cactus Moon\, Yucca Valley\, CA\, United States
CATEGORIES:All Events,Upcoming Events
ATTACH;FMTTYPE=image/jpeg:https://pamrosemusic.com/wp-content/uploads/2023/08/cedric-letsch-FYDNbPE9Bw4-unsplash-min.jpeg
END:VEVENT
BEGIN:VEVENT
DTSTART;VALUE=DATE:20230826
DTEND;VALUE=DATE:20230827
DTSTAMP:20260419T212849
CREATED:20230817T230533Z
LAST-MODIFIED:20230817T231616Z
UID:2282-1693008000-1693094399@pamrosemusic.com
SUMMARY:HEADWATERS MUSIC FESTIVAL
DESCRIPTION:HEADWATERS MUSIC FESTIVAL\n\n\nAugust 26 & 27\, 2023\nJoin Pam Rose\nin an amazing lineup\nSaturday\, Aug 26\, 8 pm
URL:https://pamrosemusic.com/event/headwaters-music-festival/
LOCATION:Creede Ball Field\, Creede\, CO\, 81130\, United States
CATEGORIES:All Events,Upcoming Events
ATTACH;FMTTYPE=image/jpeg:https://pamrosemusic.com/wp-content/uploads/2023/08/HeadwatersMusicFest2023_Website.jpg
END:VEVENT
BEGIN:VEVENT
DTSTART;VALUE=DATE:20230420
DTEND;VALUE=DATE:20230424
DTSTAMP:20260419T212849
CREATED:20221018T195554Z
LAST-MODIFIED:20221103T020649Z
UID:1693-1681948800-1682294399@pamrosemusic.com
SUMMARY:Desert Nights Retreat At The Cactus Moon ~ with Pam Rose and Lauren Lovett
DESCRIPTION:Join Pam Rose and Lauren Lovett for spring nights in the high desert in CA where we’ll tell stories about life and love by the light of the desert stars… \n∋ A TIME FOR RENEWAL RECONNECTION AND RECREATION ∈
URL:https://pamrosemusic.com/event/desert-nights-retreat-at-the-cactus-moon-with-pam-rose-and-lauren-lovett/
LOCATION:The Cactus Moon\, Yucca Valley\, CA\, United States
CATEGORIES:All Events,Special Events,Upcoming Events
ATTACH;FMTTYPE=image/jpeg:https://pamrosemusic.com/wp-content/uploads/2022/10/Untitled-design.jpg
END:VEVENT
BEGIN:VEVENT
DTSTART;TZID=America/Chicago:20211201T190000
DTEND;TZID=America/Chicago:20211201T193000
DTSTAMP:20260419T212849
CREATED:20220114T024733Z
LAST-MODIFIED:20221103T020802Z
UID:1775-1638385200-1638387000@pamrosemusic.com
SUMMARY:Pam Rose "Sacred Song" Premiere and Virtual Listening Party - Part 2 (Facebook Live)
DESCRIPTION:Buy “Sacred Song” at https://pamrosemusic.com/shop/ \nBecome a Patron of the Arts at: https://www.paypal.me/gracerecords\nVenmo to @PAM-ROSE-20 (https://venmo.com/pam-rose-20)  \n“Holy Child” written by Pam Rose\, Terry Burns and Cathy Majeski \n*** Video Creation & Editing ***\n“Holy Child” (Matthew Clowney\, https://www.Matthewclowney.com)  \nVisit https://pamrosemusic.com for Special Edition copies of “Sacred Song.”  \nContact Kim Person at https://www.KimPersonMusic.com \nContact Glen Roethel at https://www.GlenRoethel.com \n 
URL:https://pamrosemusic.com/event/pam-rose-sacred-song-premiere-and-virtual-listening-party-part-2-facebook-live/
LOCATION:Pam Rose
CATEGORIES:All Events,Past Events,Special Events
ATTACH;FMTTYPE=image/jpeg:https://pamrosemusic.com/wp-content/uploads/2022/01/pam-thumbnail_premiere-pt2_fb.jpg
END:VEVENT
BEGIN:VEVENT
DTSTART;TZID=America/Chicago:20211121T190000
DTEND;TZID=America/Chicago:20211121T193000
DTSTAMP:20260419T212849
CREATED:20211019T221311Z
LAST-MODIFIED:20220114T024407Z
UID:1695-1637521200-1637523000@pamrosemusic.com
SUMMARY:Pam Rose "Sacred Song" Premiere and Virtual Listening Party - Part 2 (YouTube)
DESCRIPTION:Buy “Sacred Song” at https://pamrosemusic.com/shop/ \nBecome a Patron of the Arts at: https://www.paypal.me/gracerecords\nVenmo to @PAM-ROSE-20 (https://venmo.com/pam-rose-20)  \n“Holy Child” written by Pam Rose\, Terry Burns and Cathy Majeski \n*** Video Creation & Editing ***\n“Holy Child” (Matthew Clowney\, https://www.Matthewclowney.com)  \nVisit https://pamrosemusic.com for Special Edition copies of “Sacred Song.”  \nContact Kim Person at https://www.KimPersonMusic.com \nContact Glen Roethel at https://www.GlenRoethel.com \n 
URL:https://pamrosemusic.com/event/pam-rose-sacred-song-premiere-and-virtual-listening-party-part-2-youtube/
LOCATION:Pam Rose
CATEGORIES:All Events,Past Events,Special Events
ATTACH;FMTTYPE=image/jpeg:https://pamrosemusic.com/wp-content/uploads/2021/10/pam-thumbnail_premiere-pt2_yt.jpg
END:VEVENT
BEGIN:VEVENT
DTSTART;TZID=America/Chicago:20211111T190000
DTEND;TZID=America/Chicago:20211111T200000
DTSTAMP:20260419T212849
CREATED:20211106T000028Z
LAST-MODIFIED:20220114T031717Z
UID:1779-1636657200-1636660800@pamrosemusic.com
SUMMARY:Pam Rose "Sacred Song" Premiere and Virtual Listening Party - Part 1 (Facebook Live)
DESCRIPTION:Buy “Sacred Song” at https://pamrosemusic.com/shop/ \nBecome a Patron of the Arts at: https://www.paypal.me/gracerecords\nVenmo to @PAM-ROSE-20 (https://venmo.com/pam-rose-20)  \nTime-Lapse Images Courtesy of Ruth Cisse (https://www.RuthCisse.com) in honor of her father\, Bill Basham DrLapser  \n*** Video Creation & Editing ***\n“Between The Worlds” & “Forevermore” (Matthew Clowney\, https://www.Matthewclowney.com)\n“Ave Maria” (Gene Smith c/o https://pamrosemusic.com)  \nVisit https://pamrosemusic.com for Special Edition copies of “Sacred Song.”  \nContact Kim Person at https://www.KimPersonMusic.com \nContact Glen Roethel at https://www.GlenRoethel.com \nComposers:\n“Ave Maria” Franz Schubert\n“Between The Worlds” Pam Rose\, Terry Burns\, Cathy Majeski\n“Forevermore” Pam Rose\, Kristin Wilkinson
URL:https://pamrosemusic.com/event/pam-rose-sacred-song-premiere-and-virtual-listening-party-part-1-facebook-live/
LOCATION:Pam Rose
CATEGORIES:All Events,Past Events,Special Events
ATTACH;FMTTYPE=image/jpeg:https://pamrosemusic.com/wp-content/uploads/2022/01/pam-thumbnail_fb-premiere.jpg
END:VEVENT
BEGIN:VEVENT
DTSTART;TZID=America/Chicago:20211018T190000
DTEND;TZID=America/Chicago:20211018T193000
DTSTAMP:20260419T212849
CREATED:20211019T000054Z
LAST-MODIFIED:20220114T031808Z
UID:1771-1634583600-1634585400@pamrosemusic.com
SUMMARY:Pam Rose "Sacred Song" Premiere and Virtual Listening Party - Part 1 (YouTube)
DESCRIPTION:Buy Sacred Song at https://pamrosemusic.com/shop/ \nBecome a Patron of the Arts at:\nPayPal ~  https://www.paypal.me/gracerecords\nVenmo ~ @PAM-ROSE-20 (https://venmo.com/pam-rose-20) \nTime-Lapse Images Courtesy of Ruth Cisse (https://www.RuthCisse.com) in honor of her father\, Bill Basham DrLapser  \n*** Video Creation & Editing ***\n“Between The Worlds” & “Forevermore” (Matthew Clowney\, https://www.Matthewclowney.com)\n“Ave Maria” (Gene Smith c/o https://pamrosemusic.com)  \nVisit https://pamrosemusic.com for Special Edition copies of Sacred Song \nContact Kim Person at https://www.KimPersonMusic.com\nContact Glen Roethel at https://www.GlenRoethel.com \nComposers: “Ave Maria” Franz Schubert “Between The Worlds” Pam Rose\, Terry Burns\, Cathy Majeski “Forevermore” Pam Rose\, Kristin Wilkinson \n  \n 
URL:https://pamrosemusic.com/event/pam-rose-sacred-song-premiere-and-virtual-listening-party-part-1-youtube/
LOCATION:Pam Rose
CATEGORIES:All Events,Past Events,Special Events
ATTACH;FMTTYPE=image/jpeg:https://pamrosemusic.com/wp-content/uploads/2021/10/pam-thumbnail_premeire_rev-gr_10-26-21.jpg
END:VEVENT
BEGIN:VEVENT
DTSTART;TZID=America/Chicago:20201008T180000
DTEND;TZID=America/Chicago:20201008T184500
DTSTAMP:20260419T212849
CREATED:20201003T212625Z
LAST-MODIFIED:20221011T162606Z
UID:1550-1602180000-1602182700@pamrosemusic.com
SUMMARY:PAM ROSE Facebook Live Concert • 7pm EDT\, 6pm CDT\, 5pm MDT\, 4pm PDT
DESCRIPTION:I’ve been invited to perform Thursday\, Oct 8\, as part of Olivia Travel’s “Olivia At Home” music series\, and I’m so excited!\n\n\nOlivia Travel Facebook page
URL:https://pamrosemusic.com/event/pam-rose-livestream-concert-at-olivia-travel-facebook-page/
LOCATION:CA
CATEGORIES:All Events,Past Events
ATTACH;FMTTYPE=image/jpeg:https://pamrosemusic.com/wp-content/uploads/2015/06/IMG_6854-scaled-e1601942784363.jpg
END:VEVENT
BEGIN:VEVENT
DTSTART;TZID=America/Chicago:20170804T193000
DTEND;TZID=America/Chicago:20170804T220000
DTSTAMP:20260419T212849
CREATED:20170513T080513Z
LAST-MODIFIED:20170709T223423Z
UID:1304-1501875000-1501884000@pamrosemusic.com
SUMMARY:Emmylou Harris and Pam Rose & Mary Ann Kennedy
DESCRIPTION:
URL:https://pamrosemusic.com/event/emmylou-harris-and-pam-rose-maryann-kennedy/
LOCATION:Oslo Konserthus\, Norway
CATEGORIES:All Events
ATTACH;FMTTYPE=image/jpeg:https://pamrosemusic.com/wp-content/uploads/2015/06/IMG_6854-scaled-e1601942784363.jpg
END:VEVENT
BEGIN:VEVENT
DTSTART;VALUE=DATE:20170803
DTEND;VALUE=DATE:20170804
DTSTAMP:20260419T212849
CREATED:20170513T075706Z
LAST-MODIFIED:20170709T223453Z
UID:1301-1501718400-1501804799@pamrosemusic.com
SUMMARY:Pam Rose and Mary Ann Kennedy with Emmylou Harris
DESCRIPTION:
URL:https://pamrosemusic.com/event/pam-rose-and-maryann-kennedy-with-emmylou-harris/
LOCATION:Liseberg Amusement Park\, Sweden
CATEGORIES:All Events
ATTACH;FMTTYPE=image/jpeg:https://pamrosemusic.com/wp-content/uploads/2015/06/IMG_6854-scaled-e1601942784363.jpg
END:VEVENT
BEGIN:VEVENT
DTSTART;VALUE=DATE:20170801
DTEND;VALUE=DATE:20170802
DTSTAMP:20260419T212849
CREATED:20170513T074441Z
LAST-MODIFIED:20170709T223539Z
UID:1298-1501545600-1501631999@pamrosemusic.com
SUMMARY:Emmylou Harris featuring Pam Rose and Mary Ann Kennedy
DESCRIPTION:
URL:https://pamrosemusic.com/event/emmylou-harris-featuring-pam-rose-and-maryann-kennedy-2/
LOCATION:Dalhalla\, Sweden
CATEGORIES:All Events
ATTACH;FMTTYPE=image/jpeg:https://pamrosemusic.com/wp-content/uploads/2015/06/IMG_6854-scaled-e1601942784363.jpg
END:VEVENT
BEGIN:VEVENT
DTSTART;VALUE=DATE:20170729
DTEND;VALUE=DATE:20170730
DTSTAMP:20260419T212849
CREATED:20170513T074102Z
LAST-MODIFIED:20170709T223608Z
UID:1295-1501286400-1501372799@pamrosemusic.com
SUMMARY:Pam Rose and Mary Ann Kennedy with Emmylou Harris in France
DESCRIPTION:
URL:https://pamrosemusic.com/event/pam-rose-and-maryann-kennedy-with-emmylou-harris-in-france/
LOCATION:Festival Country Rendez-Vous\, France
CATEGORIES:All Events
ATTACH;FMTTYPE=image/jpeg:https://pamrosemusic.com/wp-content/uploads/2015/06/IMG_6854-scaled-e1601942784363.jpg
END:VEVENT
BEGIN:VEVENT
DTSTART;TZID=America/Chicago:20170722T200000
DTEND;TZID=America/Chicago:20170722T220000
DTSTAMP:20260419T212849
CREATED:20170513T034926Z
LAST-MODIFIED:20170709T223638Z
UID:1292-1500753600-1500760800@pamrosemusic.com
SUMMARY:Pam and Mary Ann with Emmylou Harris
DESCRIPTION:
URL:https://pamrosemusic.com/event/pam-and-maryann-with-emmylou-harris/
LOCATION:Caramoor Center for Music and the Arts
CATEGORIES:All Events
ATTACH;FMTTYPE=image/jpeg:https://pamrosemusic.com/wp-content/uploads/2015/06/IMG_6854-scaled-e1601942784363.jpg
END:VEVENT
BEGIN:VEVENT
DTSTART;TZID=America/Chicago:20170720T200000
DTEND;TZID=America/Chicago:20170720T220000
DTSTAMP:20260419T212849
CREATED:20170513T034301Z
LAST-MODIFIED:20170709T223704Z
UID:1289-1500580800-1500588000@pamrosemusic.com
SUMMARY:Emmylou with Pam Rose and Mary Ann Kennedy
DESCRIPTION:
URL:https://pamrosemusic.com/event/emmylou-with-pam-rose-and-maryann-kennedy/
LOCATION:Harvester Performance Center
CATEGORIES:All Events
ATTACH;FMTTYPE=image/jpeg:https://pamrosemusic.com/wp-content/uploads/2015/06/IMG_6854-scaled-e1601942784363.jpg
END:VEVENT
BEGIN:VEVENT
DTSTART;VALUE=DATE:20170714
DTEND;VALUE=DATE:20170715
DTSTAMP:20260419T212849
CREATED:20170513T033919Z
LAST-MODIFIED:20170709T223738Z
UID:1286-1499990400-1500076799@pamrosemusic.com
SUMMARY:Emmylou Harris featuring Pam Rose and Mary Ann Kennedy
DESCRIPTION:
URL:https://pamrosemusic.com/event/emmylou-harris-featuring-pam-rose-and-maryann-kennedy/
LOCATION:Vancouver Island Musicfest
CATEGORIES:All Events
ATTACH;FMTTYPE=image/jpeg:https://pamrosemusic.com/wp-content/uploads/2015/06/IMG_6854-scaled-e1601942784363.jpg
END:VEVENT
BEGIN:VEVENT
DTSTART;VALUE=DATE:20170604
DTEND;VALUE=DATE:20170605
DTSTAMP:20260419T212849
CREATED:20170513T033322Z
LAST-MODIFIED:20170709T223813Z
UID:1281-1496534400-1496620799@pamrosemusic.com
SUMMARY:Pam Rose and Mary Ann Kennedy with Emmylou Harris
DESCRIPTION:
URL:https://pamrosemusic.com/event/1281/
LOCATION:Nelsonville Music Festival\, OH\, United States
CATEGORIES:All Events
ATTACH;FMTTYPE=image/jpeg:https://pamrosemusic.com/wp-content/uploads/2015/06/IMG_6854-scaled-e1601942784363.jpg
END:VEVENT
BEGIN:VEVENT
DTSTART;TZID=America/Chicago:20161022T200000
DTEND;TZID=America/Chicago:20161022T230000
DTSTAMP:20260419T212849
CREATED:20161009T141737Z
LAST-MODIFIED:20161009T141737Z
UID:1234-1477166400-1477177200@pamrosemusic.com
SUMMARY:An Evening w Pam Rose & Terry Burns Featuring Ron Kristy
DESCRIPTION:An Evening w Pam Rose & Terry Burns\nFeaturing Ron Kristy\nOctober 22\n8 PM \nUnitarian Church of Ithaca \n306 N Aurora St\, Ithaca\, New York 14850 \nTickets at the Door $15
URL:https://pamrosemusic.com/event/an-evening-w-pam-rose-terry-burns-featuring-ron-kristy/
LOCATION:Unitarian Church of Ithaca\, 306 N Aurora St\, Ithaca\, 14850\, United States
CATEGORIES:All Events
ATTACH;FMTTYPE=image/jpeg:https://pamrosemusic.com/wp-content/uploads/2015/06/IMG_6854-scaled-e1601942784363.jpg
END:VEVENT
BEGIN:VEVENT
DTSTART;TZID=America/Chicago:20160930T200000
DTEND;TZID=America/Chicago:20160930T230000
DTSTAMP:20260419T212849
CREATED:20160520T000943Z
LAST-MODIFIED:20221103T020836Z
UID:1157-1475265600-1475276400@pamrosemusic.com
SUMMARY:Emmylou Harris with Pam Rose and Mary Ann Kennedy
DESCRIPTION:Join Emmylou Harris\, Pam Rose\, and Mary Ann Kennedy for an evening of music. \nTickets and information
URL:https://pamrosemusic.com/event/emmylou-harris-with-pam-rose-and-maryann-kennedy/
LOCATION:Wells Fargo Center for the Arts\, Santa Rosa\, CA\, United States
CATEGORIES:All Events,Past Events
ATTACH;FMTTYPE=image/jpeg:https://pamrosemusic.com/wp-content/uploads/2015/06/IMG_6854-scaled-e1601942784363.jpg
END:VEVENT
BEGIN:VEVENT
DTSTART;VALUE=DATE:20160928
DTEND;VALUE=DATE:20160929
DTSTAMP:20260419T212849
CREATED:20160512T025652Z
LAST-MODIFIED:20161017T201913Z
UID:1000-1475020800-1475107199@pamrosemusic.com
SUMMARY:Emmylou Harris featuring Pam Rose and Mary Ann Kennedy
DESCRIPTION:Catch Pam Rose and Mary Ann Kennedy on stage with Emmylou Harris in North Dakota. \nTickets and information.
URL:https://pamrosemusic.com/event/emmylou-harris-featuring-pam-rose-and-mary-ann-kennedy-4/
LOCATION:Norsk Hostfest\, Minot\, ND\, United States
CATEGORIES:All Events,Past Events
ATTACH;FMTTYPE=image/jpeg:https://pamrosemusic.com/wp-content/uploads/2015/06/IMG_6854-scaled-e1601942784363.jpg
END:VEVENT
BEGIN:VEVENT
DTSTART;TZID=America/Chicago:20160903T133000
DTEND;TZID=America/Chicago:20160903T143000
DTSTAMP:20260419T212849
CREATED:20160822T204408Z
LAST-MODIFIED:20161017T201913Z
UID:1231-1472909400-1472913000@pamrosemusic.com
SUMMARY:Benefit for Bonaparte's Retreat
DESCRIPTION:Pam Joins Emmylou Harris for a very special performance to benefit Bonaparte’s Retreat dog rescue.
URL:https://pamrosemusic.com/event/benefit-for-bonapartes-retreat/
LOCATION:Musician’s Corner\, Centennial Park\, Nashville\, TN
CATEGORIES:All Events,Past Events
ATTACH;FMTTYPE=image/jpeg:https://pamrosemusic.com/wp-content/uploads/2015/06/IMG_6854-scaled-e1601942784363.jpg
END:VEVENT
BEGIN:VEVENT
DTSTART;TZID=America/Chicago:20160812T193000
DTEND;TZID=America/Chicago:20160812T230000
DTSTAMP:20260419T212849
CREATED:20160512T025401Z
LAST-MODIFIED:20221103T031525Z
UID:998-1471030200-1471042800@pamrosemusic.com
SUMMARY:Pam Rose\, Mary Ann Kennedy\, Emmylou Harris\, and Lyle Lovett in Virginia
DESCRIPTION:Emmylou Harris and Lyle Lovett featuring Pam Rose and Mary Ann Kennedy. \nTicket and information.
URL:https://pamrosemusic.com/event/pam-rose-mary-ann-kennedy-emmylou-harris-and-lyle-lovett-in-virginia/
LOCATION:Wolf Trap\, Vienna\, VA\, United States
CATEGORIES:All Events,Past Events
ATTACH;FMTTYPE=image/jpeg:https://pamrosemusic.com/wp-content/uploads/2015/06/IMG_6854-scaled-e1601942784363.jpg
END:VEVENT
BEGIN:VEVENT
DTSTART;TZID=America/Chicago:20160811T070000
DTEND;TZID=America/Chicago:20160811T210000
DTSTAMP:20260419T212849
CREATED:20160725T143548Z
LAST-MODIFIED:20161017T201913Z
UID:1229-1470898800-1470949200@pamrosemusic.com
SUMMARY:Emmylou Harris\, Pam Rose\, Mary Ann Kennedy\, and Lyle Lovett
DESCRIPTION:Join Emmy\, Pam and Mary Ann as they join Lyle Lovett for an evening of music! \nTickets and information.
URL:https://pamrosemusic.com/event/emmylou-harris-pam-rose-mary-ann-kennedy-and-lyle-lovett/
LOCATION:Sprint Pavillion\, Charlottesville\, VA\, United States
CATEGORIES:All Events,Past Events
ATTACH;FMTTYPE=image/jpeg:https://pamrosemusic.com/wp-content/uploads/2015/06/IMG_6854-scaled-e1601942784363.jpg
END:VEVENT
BEGIN:VEVENT
DTSTART;TZID=America/Chicago:20160808T070000
DTEND;TZID=America/Chicago:20160808T210000
DTSTAMP:20260419T212849
CREATED:20160725T143038Z
LAST-MODIFIED:20161017T201913Z
UID:1228-1470639600-1470690000@pamrosemusic.com
SUMMARY:Pam Rose and Mary Ann Kennedy w. Emmlou Harris
DESCRIPTION:Join Emmy\, Pam and Mary Ann with special guest Ian Janco \nTickets and information.
URL:https://pamrosemusic.com/event/pam-rose-and-mary-ann-kennedy-w-emmlou-harris/
LOCATION:Run River Lodge\, Ketchum\, IN\, United States
CATEGORIES:All Events,Past Events
ATTACH;FMTTYPE=image/jpeg:https://pamrosemusic.com/wp-content/uploads/2015/06/IMG_6854-scaled-e1601942784363.jpg
END:VEVENT
BEGIN:VEVENT
DTSTART;TZID=America/Chicago:20160807T070000
DTEND;TZID=America/Chicago:20160807T210000
DTSTAMP:20260419T212849
CREATED:20160725T142737Z
LAST-MODIFIED:20161017T201913Z
UID:1226-1470553200-1470603600@pamrosemusic.com
SUMMARY:Pam Rose\, Mary Ann Kennedy\, and Emmylou Harris
DESCRIPTION:Emmy\, Pam\, and Mary Ann perform in Missoula \nTickets and information.
URL:https://pamrosemusic.com/event/pam-rose-mary-ann-kennedy-and-emmylou-harris/
LOCATION:Wilma Theater\, Missoula\, MT\, United States
CATEGORIES:All Events,Past Events
ATTACH;FMTTYPE=image/jpeg:https://pamrosemusic.com/wp-content/uploads/2015/06/IMG_6854-scaled-e1601942784363.jpg
END:VEVENT
BEGIN:VEVENT
DTSTART;TZID=America/Chicago:20160806T060000
DTEND;TZID=America/Chicago:20160806T200000
DTSTAMP:20260419T212849
CREATED:20160725T141946Z
LAST-MODIFIED:20161017T201913Z
UID:1222-1470463200-1470513600@pamrosemusic.com
SUMMARY:Emmylou Harris\, Pam Rose\, and Mary Ann Kennedy
DESCRIPTION:Join Emmy\, Pam\, and Mary Ann at The Festival at Sandpoint. \nTickets and information
URL:https://pamrosemusic.com/event/emmylou-harris-pam-rose-and-mary-ann-kennedy/
LOCATION:The Festival at Sandpoint\, Sandpoint\, ID\, United States
CATEGORIES:All Events,Past Events
ATTACH;FMTTYPE=image/jpeg:https://pamrosemusic.com/wp-content/uploads/2015/06/IMG_6854-scaled-e1601942784363.jpg
END:VEVENT
BEGIN:VEVENT
DTSTART;TZID=UTC:20160730T190000
DTEND;TZID=UTC:20160730T230000
DTSTAMP:20260419T212849
CREATED:20160512T025123Z
LAST-MODIFIED:20161017T201913Z
UID:996-1469905200-1469919600@pamrosemusic.com
SUMMARY:Emmylou Harris with Lyle Lovett featuring Pam Rose and Mary Ann Kennedy
DESCRIPTION:Emmylou Harris and Lyle Lovett featuring Pam Rose and Mary Ann Kennedy take upstate NY! \nTickets and information.
URL:https://pamrosemusic.com/event/emmylou-harris-with-lyle-lovett-featuring-pam-rose-and-mary-ann-kennedy-3/
LOCATION:Marvin Sands Performing Center\, Canandaigua\, NY\, United States
CATEGORIES:All Events,Past Events
ATTACH;FMTTYPE=image/jpeg:https://pamrosemusic.com/wp-content/uploads/2015/06/IMG_6854-scaled-e1601942784363.jpg
END:VEVENT
BEGIN:VEVENT
DTSTART;TZID=UTC:20160728T190000
DTEND;TZID=UTC:20160728T230000
DTSTAMP:20260419T212849
CREATED:20160512T024823Z
LAST-MODIFIED:20161017T201913Z
UID:994-1469732400-1469746800@pamrosemusic.com
SUMMARY:Emmylou Harris and Lyle Lovett with Pam Rose and Mary Ann Kennedy
DESCRIPTION:Catch Pam Rose and Mary Ann Kennedy as they light up the stage with Emmylou Harris and Lyle Lovett. \nTickets and information.
URL:https://pamrosemusic.com/event/emmylou-harris-and-lyle-lovett-with-pam-rose-and-mary-ann-kennedy/
LOCATION:PNC Pavilion at Riverbend Music Center\, Cincinnati\, OH\, United States
CATEGORIES:All Events,Past Events
ATTACH;FMTTYPE=image/jpeg:https://pamrosemusic.com/wp-content/uploads/2015/06/IMG_6854-scaled-e1601942784363.jpg
END:VEVENT
BEGIN:VEVENT
DTSTART;TZID=UTC:20160718T190000
DTEND;TZID=UTC:20160718T230000
DTSTAMP:20260419T212849
CREATED:20160512T024533Z
LAST-MODIFIED:20161017T201914Z
UID:992-1468868400-1468882800@pamrosemusic.com
SUMMARY:Emmylou Harris and Lyle Lovett featuring Pam Rose and Mary Ann Kennedy
DESCRIPTION:Pam Rose and Mary Ann Kennedy join Emmylou Harris and Lyle Lovett. \nTickets and information.
URL:https://pamrosemusic.com/event/emmylou-harris-and-lyle-lovett-featuring-pam-rose-and-mary-ann-kennedy/
LOCATION:Ravinia\, Highland Park\, IL\, United States
CATEGORIES:All Events,Past Events
ATTACH;FMTTYPE=image/jpeg:https://pamrosemusic.com/wp-content/uploads/2015/06/IMG_6854-scaled-e1601942784363.jpg
END:VEVENT
BEGIN:VEVENT
DTSTART;TZID=UTC:20160717T193000
DTEND;TZID=UTC:20160717T230000
DTSTAMP:20260419T212849
CREATED:20160512T024248Z
LAST-MODIFIED:20161017T201914Z
UID:990-1468783800-1468796400@pamrosemusic.com
SUMMARY:Emmylou Harris featuring Pam Rose and Mary Ann Kennedy
DESCRIPTION:Pam Rose and Mary Ann Kennedy perform with Emmylou Harris in Wisconsin! \nTickets and information.
URL:https://pamrosemusic.com/event/emmylou-harris-featuring-pam-rose-and-mary-ann-kennedy-3/
LOCATION:Lake Superior Big Top Chautauqua\, Washburn\, WI\, United States
CATEGORIES:All Events,Past Events
ATTACH;FMTTYPE=image/jpeg:https://pamrosemusic.com/wp-content/uploads/2015/06/IMG_6854-scaled-e1601942784363.jpg
END:VEVENT
BEGIN:VEVENT
DTSTART;TZID=UTC:20160715T193000
DTEND;TZID=UTC:20160715T230000
DTSTAMP:20260419T212849
CREATED:20160512T023953Z
LAST-MODIFIED:20161017T201914Z
UID:987-1468611000-1468623600@pamrosemusic.com
SUMMARY:Pam Rose\, Mary Ann Kennedy\, Emmylou Harris and Lyle Lovett
DESCRIPTION:Pam Rose and Mary Ann Kennedy share the stage with Emmylou Harris and Lyle Lovett in beautiful Colorado. \nTickets and more information.
URL:https://pamrosemusic.com/event/pam-rose-mary-ann-kennedy-emmylou-harris-and-lyle-lovett/
LOCATION:Fiddler’s Green Ampitheatre\, Greenwood Village\, CO\, United States
CATEGORIES:All Events,Past Events
ATTACH;FMTTYPE=image/jpeg:https://pamrosemusic.com/wp-content/uploads/2015/06/IMG_6854-scaled-e1601942784363.jpg
END:VEVENT
END:VCALENDAR